BEGIN:VCALENDAR
VERSION:2.0
PRODID:-//Tukios.com/
BEGIN:VEVENT
UID:d78795ea-570b-4e4b-a9fd-e9d48de2470f@www.lakeeriecremationandfuneralservices.com
DTSTAMP:20260423T204606Z
DTSTART:20260611T193000Z
DTEND:20260611T210000Z
SUMMARY:Celebration of Life
DESCRIPTION:
URL:https://www.lakeeriecremationandfuneralservices.com/obituaries/beverly-mead
LOCATION:Cherry Valley Church of the Nazarene 3410 U.S. 6  Andover OH 
	44003
GEO:41.6066635;-80.6634143
END:VEVENT
END:VCALENDAR