BEGIN:VCALENDAR
VERSION:2.0
PRODID:-//Tukios.com/
BEGIN:VEVENT
UID:deeefdcf-a126-477c-9869-acab5ecae860@www.lakeeriecremationandfuneralservices.com
DTSTAMP:20260423T204606Z
DTSTART:20260919T180000Z
DTEND:20260919T190000Z
SUMMARY:Celebration of Life
DESCRIPTION:
URL:https://www.lakeeriecremationandfuneralservices.com/obituaries/dale-lewis
LOCATION:Geneva Township Park 5045 Lake Road East  Geneva OH 44041
GEO:41.8617003;-80.9380535
END:VEVENT
END:VCALENDAR