BEGIN:VCALENDAR
VERSION:2.0
PRODID:-//Tukios.com/
BEGIN:VEVENT
UID:a797b3fd-0c39-47c2-8d78-14d350a5db9e@www.lakeeriecremationandfuneralservices.com
DTSTAMP:20260423T204606Z
DTSTART:20260520T140000Z
DTEND:20260520T150000Z
SUMMARY:Memorial Visitation
DESCRIPTION:
URL:https://www.lakeeriecremationandfuneralservices.com/obituaries/frances-stevens
LOCATION:St. Jerome Catholic Church 15000 Lakeshore Boulevard  Cleveland 
	OH 44110
GEO:41.573047;-81.576606
END:VEVENT
END:VCALENDAR