BEGIN:VCALENDAR
VERSION:2.0
PRODID:-//Tukios.com/
BEGIN:VEVENT
UID:bca0d31d-68ad-431b-b37c-b5e3f2e92f0a@www.lakeeriecremationandfuneralservices.com
DTSTAMP:20260423T204606Z
DTSTART:20260520T150000Z
DTEND:20260520T160000Z
SUMMARY:Memorial Mass
DESCRIPTION:
URL:https://www.lakeeriecremationandfuneralservices.com/obituaries/frances-stevens
LOCATION:St. Jerome Catholic Church 15000 Lakeshore Boulevard  Cleveland 
	OH 44110
GEO:41.573047;-81.576606
END:VEVENT
END:VCALENDAR