BEGIN:VCALENDAR
VERSION:2.0
PRODID:-//Tukios.com/
BEGIN:VEVENT
UID:de3ea41e-6f03-492c-a5c7-9d90fa98de04@www.lakeeriecremationandfuneralservices.com
DTSTAMP:20260423T191815Z
DTSTART:20260423T200000Z
DTEND:20260423T230000Z
SUMMARY:Visitation
DESCRIPTION:
URL:https://www.lakeeriecremationandfuneralservices.com/obituaries/richard-hildebrand
LOCATION:Lake Erie Cremation & Funeral Services 1500 Harpersfield Rd  
	Geneva OH 44041
GEO:41.7646468;-80.9462699
END:VEVENT
END:VCALENDAR