BEGIN:VCALENDAR
VERSION:2.0
PRODID:-//Tukios.com/
BEGIN:VEVENT
UID:33d671cc-2de1-4b0d-a31b-52c9f992cd38@www.lakeeriecremationandfuneralservices.com
DTSTAMP:20260423T191815Z
DTSTART:20260424T150000Z
DTEND:20260424T160000Z
SUMMARY:Burial
DESCRIPTION:
URL:https://www.lakeeriecremationandfuneralservices.com/obituaries/richard-hildebrand
LOCATION:Trumbull Cemetery 2100 State Route 534  Geneva OH 44041
GEO:41.6923085;-80.952911
END:VEVENT
END:VCALENDAR