BEGIN:VCALENDAR
VERSION:2.0
PRODID:-//Tukios.com/
BEGIN:VEVENT
UID:77d1b129-37ed-450f-9d83-303a943a78a6@www.lakeeriecremationandfuneralservices.com
DTSTAMP:20260423T191814Z
DTSTART:20260424T170000Z
DTEND:20260424T200000Z
SUMMARY:Celebration of Life
DESCRIPTION:
URL:https://www.lakeeriecremationandfuneralservices.com/obituaries/richard-hildebrand
LOCATION:Geneva Eagles Club 120 Depot Street  Geneva OH 44041
GEO:41.805401;-80.9491029
END:VEVENT
END:VCALENDAR